BEGIN:VCALENDAR
VERSION:2.0
PRODID:-//CCLAD - ECPv4.9.3.1//NONSGML v1.0//EN
CALSCALE:GREGORIAN
METHOD:PUBLISH
X-WR-CALNAME:CCLAD
X-ORIGINAL-URL:https://www.climate-loss-damage.eu
X-WR-CALDESC:Events for CCLAD
BEGIN:VEVENT
DTSTART;VALUE=DATE:20190409
DTEND;VALUE=DATE:20190412
DTSTAMP:20260419T162456
CREATED:20170118T075615Z
LAST-MODIFIED:20190519T155734Z
UID:396-1554768000-1555027199@www.climate-loss-damage.eu
SUMMARY:ExCom WIM 9th Meeting - Bonn
DESCRIPTION:9th meeting of the Executive Committee of the Warsaw International Mechanism for Loss and Damage associated with Climate Change Impacts\nAccess to the venue is restricted to participants of the Eighth Meeting of the Excom. UN security at the guard house will ask you to provide them with your passport or other official identification document from your country. Having passed the UN security guard house\, the entrance to the venue is located immediately on the left-hand side. Please pick up your meeting badge at the registration desk on the ground floor. \n
URL:https://www.climate-loss-damage.eu/event/excom-wim-9th-meeting-bonn/
LOCATION:United Nations Campus Bonn\, Platz der Vereinten Nationen 1\, Bonn\, 53113\, Germania
ATTACH;FMTTYPE=image/jpeg:https://www.climate-loss-damage.eu/wp-content/uploads/2017/01/excom-9.jpg
END:VEVENT
END:VCALENDAR