BEGIN:VCALENDAR
VERSION:2.0
PRODID:-//CCLAD - ECPv4.9.3.1//NONSGML v1.0//EN
CALSCALE:GREGORIAN
METHOD:PUBLISH
X-WR-CALNAME:CCLAD
X-ORIGINAL-URL:https://www.climate-loss-damage.eu
X-WR-CALDESC:Events for CCLAD
BEGIN:VEVENT
DTSTART;VALUE=DATE:20190528
DTEND;VALUE=DATE:20190601
DTSTAMP:20260419T150108
CREATED:20170118T075332Z
LAST-MODIFIED:20190527T130323Z
UID:392-1559001600-1559347199@www.climate-loss-damage.eu
SUMMARY:ECCA 4th Conference - Lisbon
DESCRIPTION:4th European Climate Change Adaptation conference | Working together to prepare for change\nClimate change is considered by many to be the challenge of the 21st century. The urgency and severity of this challenge call for integrated ways of looking at responses to reduce the risks associated with environmental and social stressors\, and ensure a secure future for humans and ecosystems. Adapting to climate change requires a coordinated and synergistic approach from a diverse range of actors across sectors\, as well as questioning assumptions about the drivers of risk\, vulnerability and environmental change. \nA cooperative approach allows us to improve learning and knowledge exchange in order to deliver optimal solutions. Interaction and collaboration with the disaster risk reduction (DRR) community is a critical element in improving climate change adaptation (CCA)\, as the communities share similar goals and activities. Bringing the two groups together is particularly important in relation to the goals and targets of the three major international agreements: Paris\, Sendai Framework for DRR and the Sustainable Development Goals. \nCheck our L&D Special Session at ECCA2019 \n
URL:https://www.climate-loss-damage.eu/event/ecca-4th-conference-lisbon/
LOCATION:Centro Cultural de Belém\, Praça do Império\, Lisboa\, Portogallo
ATTACH;FMTTYPE=image/jpeg:https://www.climate-loss-damage.eu/wp-content/uploads/2017/01/ecca-2019.jpg
END:VEVENT
END:VCALENDAR